BEGIN:VCALENDAR
VERSION:2.0
PRODID:-//Talks.cam//talks.cam.ac.uk//
X-WR-CALNAME:Talks.cam
BEGIN:VEVENT
SUMMARY:Biochemistry Friday Seminar - Borodavka Group "Biomolecular Conden
 sates Go Viral: Shedding the Light on RNA Assembly in Viruses with Segment
 ed Genomes" - Dr Alex Borodavka
DTSTART:20211022T120000Z
DTEND:20211022T130000Z
UID:TALK162895@talks.cam.ac.uk
CONTACT:Sarah Gordon
DESCRIPTION:Abstract not available
LOCATION:Biochemistry Zoom
END:VEVENT
END:VCALENDAR
