BEGIN:VCALENDAR
VERSION:2.0
PRODID:-//Talks.cam//talks.cam.ac.uk//
X-WR-CALNAME:Talks.cam
BEGIN:VEVENT
SUMMARY:TBC - Combustion - Professor David Kittelson\, TBC
DTSTART:20090226T133000Z
DTEND:20090226T143000Z
UID:TALK16383@talks.cam.ac.uk
CONTACT:8442
DESCRIPTION:Abstract not available
LOCATION:Lecture Room 6\, Engineering Department
END:VEVENT
END:VCALENDAR
