BEGIN:VCALENDAR
VERSION:2.0
PRODID:-//Talks.cam//talks.cam.ac.uk//
X-WR-CALNAME:Talks.cam
BEGIN:VEVENT
SUMMARY: Title: "A narrowed down diagnosis" - Presenters: Dr Elaine Jolly 
 & Dr Andrew Winterbottom
DTSTART:20211117T133000Z
DTEND:20211117T140000Z
UID:TALK164137@talks.cam.ac.uk
CONTACT:Vicky Clarke
DESCRIPTION:Specialist Lead: Dr Fraz Mir\n\nLead Consultant: Dr Elaine Jol
 ly\n\nPresenters: Dr Elaine Jolly & Dr Andrew Winterbottom\n\nTitle: "A na
 rrowed down diagnosis"\n\nSpecialty: Acute Medicine\n\n
LOCATION:Zoom
END:VEVENT
END:VCALENDAR
