BEGIN:VCALENDAR
VERSION:2.0
PRODID:-//Talks.cam//talks.cam.ac.uk//
X-WR-CALNAME:Talks.cam
BEGIN:VEVENT
SUMMARY:Translating Behavioural Science Principals and Evidence into Model
 ling for Extreme Events - Brooke Rogers (King's College London)
DTSTART:20211102T133500Z
DTEND:20211102T140500Z
UID:TALK164662@talks.cam.ac.uk
DESCRIPTION:
LOCATION:Seminar Room 1\, Newton Institute
END:VEVENT
END:VCALENDAR
