BEGIN:VCALENDAR
VERSION:2.0
PRODID:-//Talks.cam//talks.cam.ac.uk//
X-WR-CALNAME:Talks.cam
BEGIN:VEVENT
SUMMARY:Digital IP Drama (Piracy\, Privacy & the Digital Content Economy) 
 - 2009 IET\, BCS & ACM Joint Lecture - Jude Umeh (FBCS\, CITP)\, Senior Co
 nsultant\, Capgemini
DTSTART:20090305T190000Z
DTEND:20090305T203000Z
UID:TALK16498@talks.cam.ac.uk
CONTACT:12494
DESCRIPTION:Refreshments\, 6.30pm\, Lecture 7pm.\nParking is available on 
 site.\n\nALL WELCOME - FREE EVENT\n\nRecent and ongoing events\, such as t
 he Pirate Bay trial in Sweden\, are indicative of the relentless drama sur
 rounding a rapidly evolving and global digital content economy. These and 
 other similar headlines simply chronicle the tussle between rival stakehol
 der groups\, as they jockey for pole position in the race towards a digita
 l future. Whichever side of the fence you are on there is no doubt that co
 ntent control mechanisms like Digital Rights Management are an emotive top
 ic that has had an impact on society. \n\nJoin Jude Umeh to discuss the de
 velopments and issues surrounding digital content\, including a look at th
 e perspectives of major stakeholders\, and what the content economy of tom
 orrow could look like.\n\n\n\n\n\n
LOCATION:Lecture Theatre 1\, Cambridge University Computer Laboratory\, J 
 J Thompson Avenue\, Madingley Road\, Cambridge
END:VEVENT
END:VCALENDAR
