BEGIN:VCALENDAR
VERSION:2.0
PRODID:-//Talks.cam//talks.cam.ac.uk//
X-WR-CALNAME:Talks.cam
BEGIN:VEVENT
SUMMARY:Nature risk\, restoration and capital allocation: How using data\,
  ML & AI to understand and measure the value of natural capital for invest
 ors can positively influence the world around us - at scale - NatureAlpha
DTSTART:20211102T110000Z
DTEND:20211102T123000Z
UID:TALK165058@talks.cam.ac.uk
CONTACT:Tudor Suciu
DESCRIPTION:Abstract not available
LOCATION:https://zoom.us/j/6708259482?pwd=Qk03U3hxZWNJZUZpT2pVZnFtU2RRUT09
END:VEVENT
END:VCALENDAR
