BEGIN:VCALENDAR
VERSION:2.0
PRODID:-//Talks.cam//talks.cam.ac.uk//
X-WR-CALNAME:Talks.cam
BEGIN:VEVENT
SUMMARY:Nuclear policy in the enlarged European Union - Bill Nuttall & Rap
 hael Heffron (EPRG)
DTSTART:20090209T123000Z
DTEND:20090209T140000Z
UID:TALK16552@talks.cam.ac.uk
CONTACT:Madie Armstrong
DESCRIPTION:Abstract not available
LOCATION:W2.01\, Judge Business School
END:VEVENT
END:VCALENDAR
