BEGIN:VCALENDAR
VERSION:2.0
PRODID:-//Talks.cam//talks.cam.ac.uk//
X-WR-CALNAME:Talks.cam
BEGIN:VEVENT
SUMMARY:Talk 8 – International Vaccination: Potential Impact on Viral Ev
 olution - C. Jessica Metcalf (Princeton University)
DTSTART:20211214T152000Z
DTEND:20211214T155000Z
UID:TALK165631@talks.cam.ac.uk
DESCRIPTION:
LOCATION:No Room Required
END:VEVENT
END:VCALENDAR
