BEGIN:VCALENDAR
VERSION:2.0
PRODID:-//Talks.cam//talks.cam.ac.uk//
X-WR-CALNAME:Talks.cam
BEGIN:VEVENT
SUMMARY:Mathematical and evolutionary approaches to cancer  - Dr Jamie Blu
 ndell\,  Early Detection Programme\, Dept of Oncology 
DTSTART:20220120T093000Z
DTEND:20220120T103000Z
UID:TALK165871@talks.cam.ac.uk
CONTACT:Justin Holt
DESCRIPTION:Change to online lecture only: use this link:\n\nhttps://us06w
 eb.zoom.us/j/82139933541?pwd=eXFFclNzSDVJYWNseXpBRDNrc3FuUT09\n\nMeeting I
 D: 821 3993 3541\nPasscode: 645700"\n
LOCATION:William Harvey Lecture Theatre\, School of Clinical Medicine
END:VEVENT
END:VCALENDAR
