BEGIN:VCALENDAR
VERSION:2.0
PRODID:-//Talks.cam//talks.cam.ac.uk//
X-WR-CALNAME:Talks.cam
BEGIN:VEVENT
SUMMARY:CO2 Monitoring in the Department - Ian Lewis - Department of Compu
 ter Science and Technology\, University of Cambridge
DTSTART:20211020T140500Z
DTEND:20211020T145500Z
UID:TALK165916@talks.cam.ac.uk
CONTACT:Ben Karniely
DESCRIPTION:Available to members of the Department of Computer Science and
  Technology only\n\nA recording of this talk is available to members of th
 e Department of Computer Science and Technology at the following link: htt
 ps://www.cl.cam.ac.uk/seminars/wednesday/video/\n\n
LOCATION:Online
END:VEVENT
END:VCALENDAR
