BEGIN:VCALENDAR
VERSION:2.0
PRODID:-//Talks.cam//talks.cam.ac.uk//
X-WR-CALNAME:Talks.cam
BEGIN:VEVENT
SUMMARY:Obama & The Middle East - Dr. Glen Rangwla\, lecturer in Politics\
 , PPSIS
DTSTART:20090123T200000Z
DTEND:20090123T230000Z
UID:TALK16641@talks.cam.ac.uk
CONTACT:Reuven Leigh
DESCRIPTION:As President Obama is inaugurated there is increasing pressure
  on him to focus on the persistent Israel-Palestine conflict. Dr. Glen Ran
 gwala will discuss the various options available to him.
LOCATION:Chabad House\, 37A Caslte Street\, Cambridge\, CB30AH
END:VEVENT
END:VCALENDAR
