BEGIN:VCALENDAR
VERSION:2.0
PRODID:-//Talks.cam//talks.cam.ac.uk//
X-WR-CALNAME:Talks.cam
BEGIN:VEVENT
SUMMARY:Hasting-Levitov Type Growth Processes with Random Particles - Anne
  Schreuder (Cantab Capital Institute for the Mathematics of Information)
DTSTART:20211124T143000Z
DTEND:20211124T152000Z
UID:TALK166471@talks.cam.ac.uk
DESCRIPTION:
LOCATION:Seminar Room 1\, Newton Institute
END:VEVENT
END:VCALENDAR
