BEGIN:VCALENDAR
VERSION:2.0
PRODID:-//Talks.cam//talks.cam.ac.uk//
X-WR-CALNAME:Talks.cam
BEGIN:VEVENT
SUMMARY:Adventures in Inflammation Research - Prof Luke O'Neill\, Trinity 
 College Dublin. Hosted by Prof Clare Bryant
DTSTART:20221021T150000Z
DTEND:20221021T160000Z
UID:TALK167059@talks.cam.ac.uk
CONTACT:Nadine Hirst
DESCRIPTION:Abstract not available
LOCATION:Hybrid meeting\, Jeffrey Cheah Biomedical Centre Lecture Theatre 
 and Via Zoom\, for more details go to https://www.immunology.cam.ac.uk/
END:VEVENT
END:VCALENDAR
