BEGIN:VCALENDAR
VERSION:2.0
PRODID:-//Talks.cam//talks.cam.ac.uk//
X-WR-CALNAME:Talks.cam
BEGIN:VEVENT
SUMMARY:In vivo exploration of biomolecular condensates in early Drosophil
 a development - Tim Weil\, Department of Zoology\, University of Cambridge
DTSTART:20220218T131500Z
DTEND:20220218T140000Z
UID:TALK167155@talks.cam.ac.uk
CONTACT:Theresa Gross-Thebing
DESCRIPTION:Abstract not available
LOCATION:Zoom - Please subscribe to mailing list for link
END:VEVENT
END:VCALENDAR
