BEGIN:VCALENDAR
VERSION:2.0
PRODID:-//Talks.cam//talks.cam.ac.uk//
X-WR-CALNAME:Talks.cam
BEGIN:VEVENT
SUMMARY:Parabolic methods in kinetic equations - Luis Silvestre (Universit
 y of Chicago)
DTSTART:20220117T130000Z
DTEND:20220117T140000Z
UID:TALK167591@talks.cam.ac.uk
DESCRIPTION:In this first talk we discuss the application of classical par
 abolic techinques to the Landau equation. We survey results and open probl
 ems.
LOCATION:Seminar Room 1\, Newton Institute
END:VEVENT
END:VCALENDAR
