BEGIN:VCALENDAR
VERSION:2.0
PRODID:-//Talks.cam//talks.cam.ac.uk//
X-WR-CALNAME:Talks.cam
BEGIN:VEVENT
SUMMARY:Silent Secrets of a Seemingly Simple System: Segregation in Partic
 le-Laden Rimming Flow - Prof Peter Thomas\, School of Engineering\, Univer
 sity of Warwick
DTSTART:20090312T113000Z
DTEND:20090312T123000Z
UID:TALK16766@talks.cam.ac.uk
CONTACT:Catherine Pearson
DESCRIPTION:Abstract not available
LOCATION:Open Plan Area\, BP Institute\, Madingley Rise CB3 0EZ
END:VEVENT
END:VCALENDAR
