BEGIN:VCALENDAR
VERSION:2.0
PRODID:-//Talks.cam//talks.cam.ac.uk//
X-WR-CALNAME:Talks.cam
BEGIN:VEVENT
SUMMARY:Widening Participation: Towards a New Settlement - Dr John Selby\,
  HEFCE
DTSTART:20090603T163000Z
DTEND:20090603T173000Z
UID:TALK16771@talks.cam.ac.uk
CONTACT:12689
DESCRIPTION:Abstract not available
LOCATION:Wolfson College\, Barton Road\, Cambridge CB3 9BB
END:VEVENT
END:VCALENDAR
