BEGIN:VCALENDAR
VERSION:2.0
PRODID:-//Talks.cam//talks.cam.ac.uk//
X-WR-CALNAME:Talks.cam
BEGIN:VEVENT
SUMMARY:Electricity markets in resource-rich countries of the MENA: Adapti
 ng for the transition era - Anupama Sen (Oxford Institute for Energy Studi
 es) 
DTSTART:20220215T140000Z
DTEND:20220215T150000Z
UID:TALK167819@talks.cam.ac.uk
CONTACT:Arthur van Benthem
DESCRIPTION:Abstract not available
LOCATION:Online
END:VEVENT
END:VCALENDAR
