BEGIN:VCALENDAR
VERSION:2.0
PRODID:-//Talks.cam//talks.cam.ac.uk//
X-WR-CALNAME:Talks.cam
BEGIN:VEVENT
SUMMARY:What happens when a bomb explodes: A review of current understandi
 ng in conventional munitions - Mike Hutchinson\, AWE\, Aldermaston
DTSTART:20090528T150000Z
DTEND:20090528T160000Z
UID:TALK16806@talks.cam.ac.uk
CONTACT:Stephen Walley
DESCRIPTION:The talk will begin by outlining the typical design of convent
 ional (non-nuclear) munitions including the high explosive and casing mate
 rials used. I will then consider the blast and fragments produced when suc
 h a weapon explodes. Although some well-known scientists (including Nevill
  Mott and G.I. Taylor) have contributed much theoretical understanding of 
 these topics\, the field is still open to improvements in understanding an
 d methods across a wide range of physics and materials science-related que
 stions.
LOCATION:Mott Seminar Room\, Cavendish Laboratory\, Department of Physics
END:VEVENT
END:VCALENDAR
