BEGIN:VCALENDAR
VERSION:2.0
PRODID:-//Talks.cam//talks.cam.ac.uk//
X-WR-CALNAME:Talks.cam
BEGIN:VEVENT
SUMMARY:It's not (all) --rocket-- atmospheric science - Professor John Pyl
 e (University of Cambridge)
DTSTART:20090210T141500Z
DTEND:20090210T151500Z
UID:TALK16925@talks.cam.ac.uk
CONTACT:Duncan Simpson
DESCRIPTION:February 10th \nProfessor John Pyle (University of Cambridge) 
 \nIt's not (all) rocket atmospheric science 
LOCATION:Pfizer Lecture Theatre\,  Department of Chemistry
END:VEVENT
END:VCALENDAR
