BEGIN:VCALENDAR
VERSION:2.0
PRODID:-//Talks.cam//talks.cam.ac.uk//
X-WR-CALNAME:Talks.cam
BEGIN:VEVENT
SUMMARY:The role of ammonia in a future carbon-free energy landscape - Lau
 ra Torrente-Merciano\, Chem Eng\, Cambridge
DTSTART:20220217T123000Z
DTEND:20220217T133000Z
UID:TALK169268@talks.cam.ac.uk
CONTACT:Catherine Pearson
DESCRIPTION:PLEASE NOTE START TIME IS 12.30
LOCATION:Open Plan Area\, BP Institute\, Madingley Rise CB3 0EZ
END:VEVENT
END:VCALENDAR
