BEGIN:VCALENDAR
VERSION:2.0
PRODID:-//Talks.cam//talks.cam.ac.uk//
X-WR-CALNAME:Talks.cam
BEGIN:VEVENT
SUMMARY:Convex Integration in Fluid Dynamics (Tutorial) - 3 - Simon Markfe
 lder (University of Cambridge)
DTSTART:20220207T160000Z
DTEND:20220207T170000Z
UID:TALK169424@talks.cam.ac.uk
DESCRIPTION:I will begin this tutorial with a summary of some results in f
 luid dynamics which are achieved by convex integration. I will explain whe
 re convex integration comes from\, and how it is applied to the Euler equa
 tions.
LOCATION:Seminar Room 1\, Newton Institute
END:VEVENT
END:VCALENDAR
