BEGIN:VCALENDAR
VERSION:2.0
PRODID:-//Talks.cam//talks.cam.ac.uk//
X-WR-CALNAME:Talks.cam
BEGIN:VEVENT
SUMMARY:“Random Ramblings around Planar Cell Polarity” - Jose Casal an
 d Peter Lawrence\, Department of Zoology\, Cambridge
DTSTART:20090316T160000Z
DTEND:20090316T164500Z
UID:TALK16956@talks.cam.ac.uk
CONTACT:Naomi Stevens
DESCRIPTION:Abstract not available
LOCATION:Gurdon Institute Tea Room
END:VEVENT
END:VCALENDAR
