BEGIN:VCALENDAR
VERSION:2.0
PRODID:-//Talks.cam//talks.cam.ac.uk//
X-WR-CALNAME:Talks.cam
BEGIN:VEVENT
SUMMARY:Benign Overfitting in Linear and Nonlinear Settings - Peter Bartle
 tt (University of California\, Berkeley)
DTSTART:20220303T153000Z
DTEND:20220303T163000Z
UID:TALK169829@talks.cam.ac.uk
DESCRIPTION:
LOCATION:Seminar Room 1\, Newton Institute
END:VEVENT
END:VCALENDAR
