BEGIN:VCALENDAR
VERSION:2.0
PRODID:-//Talks.cam//talks.cam.ac.uk//
X-WR-CALNAME:Talks.cam
BEGIN:VEVENT
SUMMARY:Genes for common obesity - what have we learned from genome-wide a
 ssociation studies so far ? - Dr Ruth Loos\, MRC Epidemiology
DTSTART:20090427T150000Z
DTEND:20090427T160000Z
UID:TALK17022@talks.cam.ac.uk
CONTACT:Glenys Jones
DESCRIPTION:\n
LOCATION:Seminar Room\, MRC Human Nutrition Research\, Elsie Widdowson Lab
 oratory\, Fulbourn Road\, Cambridge
END:VEVENT
END:VCALENDAR
