BEGIN:VCALENDAR
VERSION:2.0
PRODID:-//Talks.cam//talks.cam.ac.uk//
X-WR-CALNAME:Talks.cam
BEGIN:VEVENT
SUMMARY:Epidemiology of Ovarian Cancer  - Prof Paul Pharoah\, Centre for C
 ancer Genetic Epidemiology
DTSTART:20220324T093000Z
DTEND:20220324T103000Z
UID:TALK170468@talks.cam.ac.uk
CONTACT:Justin Holt
DESCRIPTION:In person and online:\nhttps://us06web.zoom.us/j/88216361957?p
 wd=Y2t3TVRGY3EzUXQvN0NVbnZCczdjUT09\;  \nMeeting ID: 882 1636 1957\; Passc
 ode: 386247\n\nLECTURE THEATRE CHANGE   this talk will now be in Lecture T
 heatre 2 in the  School of Clinical Medicine.
LOCATION: Lecture Theatre 2\, School of Clinical Medicine
END:VEVENT
END:VCALENDAR
