BEGIN:VCALENDAR
VERSION:2.0
PRODID:-//Talks.cam//talks.cam.ac.uk//
X-WR-CALNAME:Talks.cam
BEGIN:VEVENT
SUMMARY:Title to be confirmed - Elijah Borodin\, Department of Mechanical\
 , Aerospace and Civil Engineering\, The University of Manchester
DTSTART:20220428T150000Z
DTEND:20220428T160000Z
UID:TALK170594@talks.cam.ac.uk
CONTACT:Stephen Walley
DESCRIPTION:Abstract not available
LOCATION:Mott Seminar Room\, Cavendish Laboratory
END:VEVENT
END:VCALENDAR
