BEGIN:VCALENDAR
VERSION:2.0
PRODID:-//Talks.cam//talks.cam.ac.uk//
X-WR-CALNAME:Talks.cam
BEGIN:VEVENT
SUMMARY:Introduction - Hamza Fawzi (University of Cambridge)\, Silvia Stan
 escu (Cantab Capital Partners LLP)
DTSTART:20220526T090000Z
DTEND:20220526T091500Z
UID:TALK170987@talks.cam.ac.uk
DESCRIPTION:
LOCATION:No Room Required
END:VEVENT
END:VCALENDAR
