BEGIN:VCALENDAR
VERSION:2.0
PRODID:-//Talks.cam//talks.cam.ac.uk//
X-WR-CALNAME:Talks.cam
BEGIN:VEVENT
SUMMARY:Talk 2 - Explaining the spread of Omicron in Scotland through Depr
 ivation\, Geography and Demographics - Anthony  Wood  (University of Edinb
 urgh)
DTSTART:20220405T095000Z
DTEND:20220405T101500Z
UID:TALK171044@talks.cam.ac.uk
DESCRIPTION:
LOCATION:Seminar Room 1\, Newton Institute
END:VEVENT
END:VCALENDAR
