BEGIN:VCALENDAR
VERSION:2.0
PRODID:-//Talks.cam//talks.cam.ac.uk//
X-WR-CALNAME:Talks.cam
BEGIN:VEVENT
SUMMARY:Talk 4 - Understanding Community Level Risk Factors Through Spatia
 lly Aggregated Covid-19 Risk Model - Kaveh  Jahanshahi (Office for Nationa
 l Statistics)
DTSTART:20220405T110000Z
DTEND:20220405T113000Z
UID:TALK171050@talks.cam.ac.uk
DESCRIPTION:
LOCATION:Seminar Room 1\, Newton Institute
END:VEVENT
END:VCALENDAR
