BEGIN:VCALENDAR
VERSION:2.0
PRODID:-//Talks.cam//talks.cam.ac.uk//
X-WR-CALNAME:Talks.cam
BEGIN:VEVENT
SUMMARY:Ultra-slow Relaxation inducedby Hadamard Fractional Calculus - Fra
 ncesco Mainardi (University of Bologna)
DTSTART:20220422T103000Z
DTEND:20220422T111500Z
UID:TALK171434@talks.cam.ac.uk
DESCRIPTION:In this talk I consider two applications of Hadamard-type frac
 tional derivatives in viscoelasticity.The first application concerns a mod
 ified fractional Maxwell model\; the second one a generalized fractionalLo
 mnitz model.
LOCATION:Seminar Room 1\, Newton Institute
END:VEVENT
END:VCALENDAR
