BEGIN:VCALENDAR
VERSION:2.0
PRODID:-//Talks.cam//talks.cam.ac.uk//
X-WR-CALNAME:Talks.cam
BEGIN:VEVENT
SUMMARY:The promise of proton therapy in paediatric tumours  - Dr Thankamm
 a Ajithkumar\, Consultant Clinical Oncologist\, Cambridge University Hospi
 tals NHS Foundation Trust
DTSTART:20220505T083000Z
DTEND:20220505T093000Z
UID:TALK171623@talks.cam.ac.uk
CONTACT:Justin Holt
DESCRIPTION:In person and online: https://us06web.zoom.us/j/82274163861?pw
 d=YWJsdW5taEhGamxpclQydVp4RHNCUT09\;  Meeting ID: 822 7416 3861\; Passcode
 : 178782
LOCATION:William Harvey Lecture Theatre\, School of Clinical Medicine
END:VEVENT
END:VCALENDAR
