BEGIN:VCALENDAR
VERSION:2.0
PRODID:-//Talks.cam//talks.cam.ac.uk//
X-WR-CALNAME:Talks.cam
BEGIN:VEVENT
SUMMARY:Limit theorems for a stable sausage - Nikola Sandric (University o
 f Zagreb)
DTSTART:20220322T090000Z
DTEND:20220322T093000Z
UID:TALK171653@talks.cam.ac.uk
DESCRIPTION:In this talk\, we discuss fluctuations of the volume of a stab
 le sausage defined via a d-dimensional rotationally invariant stable proce
 ss. We present the strong law of large numbers\, central limit theorem\, a
 nd Khintchine&rsquo\;s and Chung&rsquo\;s laws of the iterated logarithm f
 or this process.
LOCATION:Seminar Room 1\, Newton Institute
END:VEVENT
END:VCALENDAR
