BEGIN:VCALENDAR
VERSION:2.0
PRODID:-//Talks.cam//talks.cam.ac.uk//
X-WR-CALNAME:Talks.cam
BEGIN:VEVENT
SUMMARY:Mini course: Spectral Theory on the Fractals: Lecture 3 - Schrödi
 nger operator on the Sierpinski lattice with random potential (Anderson mo
 del). Cluster expansion on the resolvent. Localization theorem - Stanislav
  Molchanov (University of North Carolina)
DTSTART:20220412T100000Z
DTEND:20220412T113000Z
UID:TALK171776@talks.cam.ac.uk
DESCRIPTION:
LOCATION:Seminar Room 1\, Newton Institute
END:VEVENT
END:VCALENDAR
