BEGIN:VCALENDAR
VERSION:2.0
PRODID:-//Talks.cam//talks.cam.ac.uk//
X-WR-CALNAME:Talks.cam
BEGIN:VEVENT
SUMMARY:Talk 8 – Impact of Covid-19 on Children and Young People’s Men
 tal Health: What Do We Know and What Are the Implications for Schools? - T
 amsin Newlove-Delgado (University of Exeter)
DTSTART:20220427T132500Z
DTEND:20220427T135000Z
UID:TALK172049@talks.cam.ac.uk
DESCRIPTION:
LOCATION:Centre for Mathematical Sciences
END:VEVENT
END:VCALENDAR
