BEGIN:VCALENDAR
VERSION:2.0
PRODID:-//Talks.cam//talks.cam.ac.uk//
X-WR-CALNAME:Talks.cam
BEGIN:VEVENT
SUMMARY:Visual Strategy - Rob Phal (Centre for Technology Management\, IfM
 )
DTSTART:20090327T100000Z
DTEND:20090327T104500Z
UID:TALK17290@talks.cam.ac.uk
CONTACT:Yongjiang Shi
DESCRIPTION:Abstract not available
LOCATION:Seminar Room B\, Institute for Manufacturing (IfM)\, Mill Lane
END:VEVENT
END:VCALENDAR
