BEGIN:VCALENDAR
VERSION:2.0
PRODID:-//Talks.cam//talks.cam.ac.uk//
X-WR-CALNAME:Talks.cam
BEGIN:VEVENT
SUMMARY:Targeting non-coding RNAs in vascular cell therapy - Lars Maegdefe
 ssel\, Technical University Munich & Karolinska Institute
DTSTART:20220707T113000Z
DTEND:20220707T123000Z
UID:TALK172937@talks.cam.ac.uk
CONTACT:47770
DESCRIPTION:Abstract not available
LOCATION:Lecture Theatre\, Jeffrey Cheah Biomedical Centre\, Cambridge Bio
 medical Campus
END:VEVENT
END:VCALENDAR
