BEGIN:VCALENDAR
VERSION:2.0
PRODID:-//Talks.cam//talks.cam.ac.uk//
X-WR-CALNAME:Talks.cam
BEGIN:VEVENT
SUMMARY:Cancelled! Sorry for inconvenience. - Danielle Belgrave\, DeepMind
DTSTART:20221004T121500Z
DTEND:20221004T131500Z
UID:TALK173030@talks.cam.ac.uk
CONTACT:Mateja Jamnik
DESCRIPTION:"Join us on Zoom":https://zoom.us/j/99166955895?pwd=SzI0M3pMVE
 kvNmw3Q0dqNDVRalZvdz09\n\nSorry for inconvenience.
LOCATION:Zoom
END:VEVENT
END:VCALENDAR
