BEGIN:VCALENDAR
VERSION:2.0
PRODID:-//Talks.cam//talks.cam.ac.uk//
X-WR-CALNAME:Talks.cam
BEGIN:VEVENT
SUMMARY:Church History for a King: Isaac Casaubon in England\, 1610-1614 -
  Anthony Grafton (Princeton University)
DTSTART:20090429T160000Z
DTEND:20090429T173000Z
UID:TALK17308@talks.cam.ac.uk
CONTACT:Richard Serjeantson
DESCRIPTION:Abstract not available
LOCATION:Graham Storey Room\, Trinity Hall
END:VEVENT
END:VCALENDAR
