BEGIN:VCALENDAR
VERSION:2.0
PRODID:-//Talks.cam//talks.cam.ac.uk//
X-WR-CALNAME:Talks.cam
BEGIN:VEVENT
SUMMARY:Why do we like to eat? - Dr Sadaf Farooqi\, Wellcome Trust Senior 
 Clinical Fellow at Addenbrookes
DTSTART:20090309T180000Z
DTEND:20090309T190000Z
UID:TALK17330@talks.cam.ac.uk
CONTACT:Sue Long
DESCRIPTION:Dr Sadaf Farooqi\, a Wellcome Trust Senior Clinical Fellow at 
 Addenbrookes Hospital will look at the genetic factors which cause human o
 besity and the dramatic response that patients can experience following le
 ptin therapy\, including the critical role this hormone plays in the regul
 ation of human food intake.  
LOCATION:University Centre
END:VEVENT
END:VCALENDAR
