BEGIN:VCALENDAR
VERSION:2.0
PRODID:-//Talks.cam//talks.cam.ac.uk//
X-WR-CALNAME:Talks.cam
BEGIN:VEVENT
SUMMARY:Understanding force balance in numerical models of the Geodynamo -
  Emmanuel Dormy (CNRS - Ecole Normale Superieure Paris)
DTSTART:20220516T090000Z
DTEND:20220516T100000Z
UID:TALK173528@talks.cam.ac.uk
DESCRIPTION:
LOCATION:Seminar Room 1\, Newton Institute
END:VEVENT
END:VCALENDAR
