BEGIN:VCALENDAR
VERSION:2.0
PRODID:-//Talks.cam//talks.cam.ac.uk//
X-WR-CALNAME:Talks.cam
BEGIN:VEVENT
SUMMARY:Scattering of inertia-gravity waves by quasigeostrophic turbulence
  - Jacques Vanneste (University of Edinburgh)
DTSTART:20220516T101500Z
DTEND:20220516T111500Z
UID:TALK173531@talks.cam.ac.uk
DESCRIPTION:
LOCATION:Seminar Room 1\, Newton Institute
END:VEVENT
END:VCALENDAR
