BEGIN:VCALENDAR
VERSION:2.0
PRODID:-//Talks.cam//talks.cam.ac.uk//
X-WR-CALNAME:Talks.cam
BEGIN:VEVENT
SUMMARY:Effect of heterogeneities in geophysical flows - Didier Bresch (Un
 iversité de Savoie)
DTSTART:20220518T101500Z
DTEND:20220518T111500Z
UID:TALK173564@talks.cam.ac.uk
DESCRIPTION:In this talk\, I will try to present an overview of recent mat
 hematical results related to models which encode heterogenities.
LOCATION:Seminar Room 1\, Newton Institute
END:VEVENT
END:VCALENDAR
