BEGIN:VCALENDAR
VERSION:2.0
PRODID:-//Talks.cam//talks.cam.ac.uk//
X-WR-CALNAME:Talks.cam
BEGIN:VEVENT
SUMMARY:How Do We Measure the Impact of Asymptomatic Testing in the UK? - 
 Michael Tildesley (University of Warwick)
DTSTART:20220607T135000Z
DTEND:20220607T141500Z
UID:TALK173810@talks.cam.ac.uk
DESCRIPTION:
LOCATION:No Room Required
END:VEVENT
END:VCALENDAR
