BEGIN:VCALENDAR
VERSION:2.0
PRODID:-//Talks.cam//talks.cam.ac.uk//
X-WR-CALNAME:Talks.cam
BEGIN:VEVENT
SUMMARY:Challenge 3: Misinformation - Ed  Humpherson (Office for Statistic
 s Regulation)
DTSTART:20220518T095000Z
DTEND:20220518T101500Z
UID:TALK174302@talks.cam.ac.uk
DESCRIPTION:
LOCATION:No Room Required
END:VEVENT
END:VCALENDAR
