BEGIN:VCALENDAR
VERSION:2.0
PRODID:-//Talks.cam//talks.cam.ac.uk//
X-WR-CALNAME:Talks.cam
BEGIN:VEVENT
SUMMARY:Special   values of Zeta-functions of regular schemes projective o
 ver the integers - Stephen Lichtenbaum (Brown University)
DTSTART:20220624T140000Z
DTEND:20220624T150000Z
UID:TALK174470@talks.cam.ac.uk
DESCRIPTION:We give a conjectured formula ex[ressing special values of Zet
 a-functions in terms of motivic cohomology\, singular cohomology\, and der
 ived de Rham cohomology.&nbsp\; This formula implies the conjecture of Bir
 ch and Swinnerton-Dyer for Jacobians of curves over number fields and conj
 ectures relating Dedekind zeta-functions to algebraic K-theory.
LOCATION:Seminar Room 1\, Newton Institute
END:VEVENT
END:VCALENDAR
