BEGIN:VCALENDAR
VERSION:2.0
PRODID:-//Talks.cam//talks.cam.ac.uk//
X-WR-CALNAME:Talks.cam
BEGIN:VEVENT
SUMMARY:Studying Introreducibility - Daniel Turetsky (Victoria University 
 of Wellington)
DTSTART:20220608T080000Z
DTEND:20220608T090000Z
UID:TALK174809@talks.cam.ac.uk
DESCRIPTION:A set is introreducible if it can be computed from each of its
  infinite subsets.&nbsp\; We investigate this notion\, defining several na
 tural generalizations and reducibilities.&nbsp\; This is joint work Noam G
 reenberg\, Matthew Harrison-Trainor and Ludovic Patey.
LOCATION:Seminar Room 1\, Newton Institute
END:VEVENT
END:VCALENDAR
