BEGIN:VCALENDAR
VERSION:2.0
PRODID:-//Talks.cam//talks.cam.ac.uk//
X-WR-CALNAME:Talks.cam
BEGIN:VEVENT
SUMMARY:A geochemical model of the formation of the Earth's core. - John R
 udge (University of Cambridge)
DTSTART:20090513T153000Z
DTEND:20090513T163000Z
UID:TALK17495@talks.cam.ac.uk
CONTACT:Dr Alistair Crosby
DESCRIPTION:Abstract not available
LOCATION:Marine/Wolfson Building lecture hall
END:VEVENT
END:VCALENDAR
