BEGIN:VCALENDAR
VERSION:2.0
PRODID:-//Talks.cam//talks.cam.ac.uk//
X-WR-CALNAME:Talks.cam
BEGIN:VEVENT
SUMMARY:Iwasawa theory : ONLINE - Mahesh Kakde (Indian Institute of Scienc
 e)
DTSTART:20220609T080000Z
DTEND:20220609T090000Z
UID:TALK175262@talks.cam.ac.uk
DESCRIPTION:
LOCATION:Seminar Room 2\, Newton Institute
END:VEVENT
END:VCALENDAR
