BEGIN:VCALENDAR
VERSION:2.0
PRODID:-//Talks.cam//talks.cam.ac.uk//
X-WR-CALNAME:Talks.cam
BEGIN:VEVENT
SUMMARY:Irreducible finite dimensional representations of W-algebras - Los
 ev\, I (MIT)
DTSTART:20090325T090000Z
DTEND:20090325T100000Z
UID:TALK17535@talks.cam.ac.uk
CONTACT:Mustapha Amrani
DESCRIPTION:W-algebras (of finite type) are certain associative algebras c
 onstructed from nilpotent orbits in semisimple Lie algebras. In this talk 
 I am going to describe a relation between irreducible finite dimensional r
 epresentations of a W-algebra and primitive ideals of the universal envelo
 ping algebra whose associated variety coincides with the closure of the gi
 ven orbit. 
LOCATION:Seminar Room 1\, Newton Institute
END:VEVENT
END:VCALENDAR
